BEGIN:VCALENDAR
VERSION:2.0
PRODID:-//Le GAB - ECPv6.7.0//NONSGML v1.0//EN
CALSCALE:GREGORIAN
METHOD:PUBLISH
X-ORIGINAL-URL:https://gabromont.ca
X-WR-CALDESC:Évènements pour Le GAB
REFRESH-INTERVAL;VALUE=DURATION:PT1H
X-Robots-Tag:noindex
X-PUBLISHED-TTL:PT1H
BEGIN:VTIMEZONE
TZID:America/Toronto
BEGIN:DAYLIGHT
TZOFFSETFROM:-0500
TZOFFSETTO:-0400
TZNAME:EDT
DTSTART:20240310T070000
END:DAYLIGHT
BEGIN:STANDARD
TZOFFSETFROM:-0400
TZOFFSETTO:-0500
TZNAME:EST
DTSTART:20241103T060000
END:STANDARD
END:VTIMEZONE
BEGIN:VEVENT
DTSTART;TZID=America/Toronto:20241218T170000
DTEND;TZID=America/Toronto:20241218T190000
DTSTAMP:20260419T165345
CREATED:20241204T022021Z
LAST-MODIFIED:20241205T201602Z
UID:10000033-1734541200-1734548400@gabromont.ca
SUMMARY:5 @ 7 des fêtes au Bistro M
DESCRIPTION:Nous sommes ravis de vous convier à une soirée festive dans l’ambiance chaleureuse des fêtes\, organisée au Bistro M de Bromont sur un site exceptionnel\, celui de l’aéroport de Bromont\, vous découvrirez le resto-bistro bien sympathique avec terrasse\, où vous pourrez vous régaler et passer un moment inoubliable. Lieu magnifique\, fenestration panoramique\, stationnement à profusion\, le Bistro M vous offre les meilleurs déjeuners de la région du mercredi au dimanche\, en plus des dîners du mercredi au vendredi. Au plaisir de vous y rencontrer! \n  \n\n\nMessages importants: \n\nVous devez être connecté au site avec un compte souscrit à l’abonnement annuel pour être en mesure de vous procurer un billet sans frais aux évènements. Pour devenir membre\, cliquez ici.\nIl est maintenant important de vous procurer vos billets à l’avance et d’honorer votre réservation vu les efforts mis en œuvre pour vous accueillir à chaque évènement.\nNous n’acceptons plus l’argent comptant. Une tablette informatique sera à votre disposition à l’accueil pour devenir membre\, mais il est fort préférable de vous inscrire à l’avance.\n\nMerci et bon 5 @ 7!
URL:https://gabromont.ca/evenement/5-7-de-noel-au-bistro-m/
LOCATION:Bistro M\, 101 Rue du Ciel\, Bromont\, Québec\, J2L 2X4\, Canada
ATTACH;FMTTYPE=image/png:https://gabromont.ca/wp-content/uploads/2024/12/BistoM_Logo_Black_Medium.png
ORGANIZER;CN="Les gens d'affaires de Bromont":MAILTO:info@gabromont.ca
END:VEVENT
END:VCALENDAR